Workbook

Sheet 1. Model budget by year
B2: Format Annual Financial Report Year 2024
B3: Sheet 1 - Budget by year
B5: EXPENSES | D5: Budget 1 January - 31 December | E5: Realisation 1 January - 31 December | F5: Difference 1 January - 31 December | G5: Difference % 1 January - 31 December | H5: Clarification
B6: I. Direct staff costs applicant
B7: A. Staff costs for non-local personnel of applicant | D7: 992896.74 | E7: ='3. Model budget by country'!C33+'3. Model budget by country'!C44+'3. Model budget by country'!C45+'3. Model budget by country'!C46+'3. Model budget by country'!C47+'3. Model budget by country'!C48+'3. Model budget by country'!C61+'3. Model budget by country'!C62+'3. Model budget by country'!C63+'3. Model budget by country'!C64+'3. Model budget by country'!C88+'3. Model budget by country'!C98+'3. Model budget by country'!C103 -> 461619.22 | F7: =D7-E7 -> 531277.53 | G7: =IFERROR(SUM(E7:E10)/SUM(D7:D10), 0) -> 0.42822798
B8: B. Staff costs for local personnel of applicant | D8: 515271.05 | E8: ='3. Model budget by country'!C34+'3. Model budget by country'!C49+'3. Model budget by country'!C50+'3. Model budget by country'!C51+'3. Model budget by country'!C52+'3. Model budget by country'!C65+'3. Model budget by country'!C66+'3. Model budget by country'!C89 -> 172101.21 | F8: =D8-E8 -> 343169.83
B9: C. Programme activity costs, including project management costs | D9: 137166.3 | E9: ='3. Model budget by country'!C35+'3. Model budget by country'!C37+'3. Model budget by country'!C39+'3. Model budget by country'!C53+'3. Model budget by country'!C67+'3. Model budget by country'!C87+'3. Model budget by country'!C90+'3. Model budget by country'!C93+'3. Model budget by country'!C99 -> 70857.67 | F9: =D9-E9 -> 66308.629
B10: D. External: consultants and advisers | D10: 0 | E10: 0 | F10: =D10-E10 -> 0
B11: II. Other direct programme costs
B12: A. Activity-related travel costs | D12: 136932.85 | E12: ='3. Model budget by country'!C54+'3. Model budget by country'!C68+'3. Model budget by country'!C69+'3. Model budget by country'!C70+'3. Model budget by country'!C71+'3. Model budget by country'!C72+'3. Model budget by country'!C73+'3. Model budget by country'!C100+'3. Model budget by country'!C36 -> 77266.921 | F12: =D12-E12 -> 59665.933 | G12: =IFERROR(SUM(E12:E17)/SUM(D12:D17), 0) -> 0.41322863 | H12: As the startup of project, the burn rate is currently at 42%, relatively low compared to the elapsed project timeline and budget plan shared earlier. The implementation will be accelerated during the next year as per the budget plan.
B13: B. Project office costs | D13: 208692.86 | E13: ='3. Model budget by country'!C101+'3. Model budget by country'!C92+'3. Model budget by country'!C91+'3. Model budget by country'!C74+'3. Model budget by country'!C75+'3. Model budget by country'!C76+'3. Model budget by country'!C77+'3. Model budget by country'!C55+'3. Model budget by country'!C38 -> 116609.33 | F13: =D13-E13 -> 92083.528
B14: C. Activity-related equipment and investment costs | D14: 66352.74 | E14: ='3. Model budget by country'!C56+'3. Model budget by country'!C78+'3. Model budget by country'!C79+'3. Model budget by country'!C80+'3. Model budget by country'!C81+'3. Model budget by country'!C82 -> 19942.26 | F14: =D14-E14 -> 46410.48
B15: D.1 External accountability activities (mid-term review, final evaluation and auditing) | D15: 29166.667 | E15: 0 | F15: =D15-E15 -> 29166.667
B16: D.2 Programmatic Monitoring, Evaluation and Learning (executing the learning loop) of the Contributing to Peaceful and Safe Societies 2024-2031 grant programme | D16: 42777.778 | E16: ='3. Model budget by country'!C102 -> 8995.07 | F16: =D16-E16 -> 33782.708
B17: D.3 Costs to participate in the learning trajectory partner | D17: 55278.801 | E17: 0 | F17: =D17-E17 -> 55278.801
B18: III. Subtotal of I and II | D18: =SUM(D7:D10,D12:D17) -> 2184535.8 | E18: =SUM(E7:E10,E12:E17) -> 927391.68 | F18: =SUM(F7:F10,F12:F17) -> 1257144.1
B20: IV. Overheads / indirect costs applicant (fill in your ICR) | D20: 0.15 | E20: 0.15 | F20: =D20-E20 -> 0 | G20: =E20-F20 -> 0.15
B21: A. (fixed indirect costs rate (=max. 15% of V)) | D21: =D20*D18 -> 327680.37 | E21: =E20*E18 -> 139108.75 | F21: =D21-E21 -> 188571.62 | G21: =IFERROR(E21/D21, 0) -> 0.42452574
B22: V. Subtotal Direct costs and indirect costs applicant (=III + IV) | D22: =SUM(D18,D21) -> 2512216.1 | E22: =SUM(E18,E21) -> 1066500.4 | F22: =SUM(F18,F21) -> 1445715.7
B24: VI. Programme costs local partners
B25: A. Direct and indirect costs of local partners (and other third parties) | D25: 0 | E25: 0 | F25: =D25-E25 -> 0 | G25: =IFERROR(E25/D25, 0) -> 0
B26: VII. Subtotal of V and VI | D26: =SUM(D22,D25) -> 2512216.1 | E26: =SUM(E22,E25) -> 1066500.4 | F26: =SUM(F22,F25) -> 1445715.7
B28: VIII. Contingencies (Max. 4% of VII) | D28: 0 | E28: 0 | F28: =D28-E28 -> 0
B29: A. Optional amount reserved for contingencies (max 4% of VII) | D29: =D28*D26 -> 0 | E29: =E28*E26 -> 0 | F29: =D29-E29 -> 0 | G29: =IFERROR(E29/D29, 0) -> 0
B30: IX. Grand total (VII + VIII) | D30: =SUM(D26,D29) -> 2512216.1 | E30: =SUM(E26,E29) -> 1066500.4 | F30: =SUM(F26,F29) -> 1445715.7
B32: INCOME ACTIVITY (source and amount per year)
B33: Dutch Government | D33: 0 | E33: 0 | F33: =D33-E33 -> 0
B34: International Government(s) | D34: 0 | E34: 0 | F34: =D34-E34 -> 0
B35: International Organisation(s) | D35: 0 | E35: 0 | F35: =D35-E35 -> 0
B36: Financial Sector (loan, guarantee, …..) | D36: 0 | E36: 0 | F36: =D36-E36 -> 0
B37: Business contributions | D37: 0 | E37: 0 | F37: =D37-E37 -> 0
B38: Private donors (including private persons) | D38: 0 | E38: 0 | F38: =D38-E38 -> 0
B39: Income generated by the activities (services) funded by MFA | D39: 0 | E39: 0 | F39: =D39-E39 -> 0
B40: Knowledge institutes | D40: 0 | E40: 0 | F40: =D40-E40 -> 0
B41: Other (sources of) income….. | D41: 0 | E41: 0 | F41: =D41-E41 -> 0
B42: Total Income | D42: =SUM(D33:D41) -> 0 | E42: =SUM(E33:E41) -> 0 | F42: =SUM(F33:F41) -> 0

Sheet 2. Model budget by result
B1: Sheet 2 - Budget by result area
D4: Year 1 | I4: Year 2 | K4: Year 3
B5: EXPENSES | D5: Budget Result 1 - Evidence-based policy influencing | E5: Realisation Result 1 - Evidence-based policy influencing | F5: Difference 1 June - 31 December | G5: Difference % 1 June - 31 December | H5: Clarification | I5: Budget Result 2 - Country-level adaptive locally led programming | J5: Realisation Result 2 - Country-level adaptive locally led programming | K5: Difference 1 January - 31 December | L5: Difference % 1 January - 31 December | M5: Clarification | P5: Result 1 - Evidence-based policy influencing | Q5: Result 2 - Country-level adaptive locally led programming
B6: I. Direct staff costs applicant | L6: =IFERROR(SUM(I7:I10)/SUM(J7:J10), 0) -> 2.439618
B7: ='[1]1. Model budget by year'!B12 -> A. Staff costs for non-local personnel of applicant | D7: =992896.740771518*P7 -> 499446.95 | E7: ='1. Model budget by year'!E7*'2. Model budget by result'!P7 -> 232203.71 | F7: =E7-D7 -> -267243.24 | G7: =IFERROR(SUM(D7:D10)/SUM(E7:E10), 0) -> 2.1395351 | I7: ='1. Model budget by year'!D7*'2. Model budget by result'!Q7 -> 493449.79 | J7: ='1. Model budget by year'!E7*'2. Model budget by result'!Q7 -> 229415.5 | K7: =J7-I7 -> -264034.29 | P7: 0.50302003 | Q7: 0.49697997
B8: ='[1]1. Model budget by year'!B13 -> B. Staff costs for local personnel of applicant | D8: =515271.04525708*P8 -> 0 | E8: =D8*P8 -> 0 | F8: =E8-D8 -> 0 | I8: ='1. Model budget by year'!D8*'2. Model budget by result'!Q8 -> 515271.05 | J8: ='1. Model budget by year'!E8*'2. Model budget by result'!Q8 -> 172101.21 | K8: =J8-I8 -> -343169.83 | P8: 0 | Q8: 1
B9: C. Programme activity costs, including project management costs | D9: =137166.298565182*P9 -> 25074.225 | E9: ='1. Model budget by year'!E9*'2. Model budget by result'!P9 -> 12952.899 | F9: =E9-D9 -> -12121.327 | I9: ='1. Model budget by year'!D9*'2. Model budget by result'!Q9 -> 112092.07 | J9: ='1. Model budget by year'!E9*'2. Model budget by result'!Q9 -> 57904.771 | K9: =J9-I9 -> -54187.302 | P9: 0.18280165 | Q9: 0.81719835
B10: D. External: consultants and advisers | D10: 0 | F10: =E10-D10 -> 0 | K10: =J10-I10 -> 0
D11: =D5 -> Budget Result 1 - Evidence-based policy influencing | E11: Realisation Result 1 - Evidence-based policy influencing | F11: Difference 1 January - 31 December | G11: Difference % 1 January - 31 December | H11: Clarification | I11: =I5 -> Budget Result 2 - Country-level adaptive locally led programming | J11: Realisation Result 2 - Country-level adaptive locally led programming | K11: Difference 1 January - 31 December | L11: Difference % 1 January - 31 December | M11: Clarification
B12: II. Other direct programme costs | F12: =E12-D12 -> 0
B13: A. Activity-related travel costs | D13: =136932.854214375*P13 -> 60450.594 | E13: ='1. Model budget by year'!E12*'2. Model budget by result'!P13 -> 34110.377 | F13: =E13-D13 -> -26340.217 | G13: =IFERROR(SUM(D12:D17)/SUM(E12:E17), 0) -> 1.94022 | I13: ='1. Model budget by year'!D12*'2. Model budget by result'!Q13 -> 76482.26 | J13: ='1. Model budget by year'!E12*'2. Model budget by result'!Q13 -> 43156.544 | K13: =J13-I13 -> -33325.716 | L13: =IFERROR(SUM(I13:I19)/SUM(J13:J19), 0) -> 2.3728287 | P13: 0.44146158 | Q13: 0.55853842
B14: B. Project office costs | D14: =208692.855596993*P14 -> 35889.403 | E14: ='1. Model budget by year'!E13*'2. Model budget by result'!P14 -> 20053.581 | F14: =E14-D14 -> -15835.822 | I14: ='1. Model budget by year'!D13*'2. Model budget by result'!Q14 -> 172803.45 | J14: ='1. Model budget by year'!E13*'2. Model budget by result'!Q14 -> 96555.746 | K14: =J14-I14 -> -76247.706 | P14: 0.17197236 | Q14: 0.82802764
B15: C. Activity-related equipment and investment costs | D15: =66352.7396546546*P15 -> 0 | E15: ='1. Model budget by year'!E14*'2. Model budget by result'!P15 -> 0 | F15: =E15-D15 -> 0 | I15: ='1. Model budget by year'!D14*'2. Model budget by result'!Q15 -> 66352.74 | J15: ='1. Model budget by year'!E14*'2. Model budget by result'!Q15 -> 19942.26 | K15: =J15-I15 -> -46410.48 | P15: 0 | Q15: 1
B16: D.1 External accountability activities (mid-term review, final evaluation and auditing | D16: =29166.6666666667*P16 -> 8750 | E16: ='1. Model budget by year'!E15*'2. Model budget by result'!P16 -> 0 | F16: =E16-D16 -> -8750 | I16: ='1. Model budget by year'!D15*'2. Model budget by result'!Q16 -> 20416.667 | J16: ='1. Model budget by year'!E15*'2. Model budget by result'!Q16 -> 0 | K16: =J16-I16 -> -20416.667 | P16: 0.3 | Q16: 0.7
B17: D.2 Programmatic Monitoring, Evaluation and Learning (executing the learning loop of the Contributing to Peaceful and Safe Societies 2024-2031 grant programme) | D17: =42777.7777777778*P17 -> 0 | F17: =E17-D17 -> 0 | I17: ='1. Model budget by year'!D16*'2. Model budget by result'!Q17 -> 42777.778 | K17: =J17-I17 -> -42777.778 | P17: 0 | Q17: 1
B18: D.3 Costs to participate in the learning trajectory partner - highly recommended - see section 12.3 grant policy framework | D18: =55278.800998347*P18 -> 55278.801 | E18: ='1. Model budget by year'!E16*'2. Model budget by result'!P18 -> 8995.07 | F18: =E18-D18 -> -46283.731 | I18: ='1. Model budget by year'!D17*'2. Model budget by result'!Q18 -> 0 | J18: ='1. Model budget by year'!E17*'2. Model budget by result'!Q18 -> 0 | K18: =J18-I18 -> 0 | P18: 1 | Q18: 0
K19: =J19-I19 -> 0
B20: III. Subtotal of I and II | D20: =SUM(D13:D18,D7:D10) -> 684889.97 | E20: =SUM(E13:E18,E7:E10) -> 308315.64 | F20: =SUM(F13:F18,F7:F10) -> -376574.33 | I20: =SUM(I13:I18,I7:I10) -> 1499645.8 | J20: =SUM(J13:J18,J7:J10) -> 619076.04 | K20: =SUM(K13:K18,K7:K10) -> -880569.77
D21: =D11 -> Budget Result 1 - Evidence-based policy influencing | E21: Realisation Result 1 - Evidence-based policy influencing | F21: Difference 1 January - 31 December | G21: Difference % 1 January - 31 December | H21: Clarification | I21: =I11 -> Budget Result 2 - Country-level adaptive locally led programming | J21: Realisation Result 2 - Country-level adaptive locally led programming | K21: Difference 1 January - 31 December | L21: Difference % 1 January - 31 December | M21: Clarification
B22: IV. Overheads / indirect costs | D22: 0.15
B23: A. (fixed) Indirect costs rate (=max. 15% of V) | D23: =$D$22*D20 -> 102733.5 | E23: =$D$22*E20 -> 46247.346 | F23: =E23-D23 -> -56486.15 | G23: =IFERROR(D23/E23, 0) -> 2.2213923 | I23: =$D$22*I20 -> 224946.87 | J23: =$D$22*J20 -> 92861.406 | K23: =$D$22*K20 -> -132085.47 | L23: =IFERROR(I23/J23, 0) -> 2.4223936
B24: V. Subtotal of III and IV | D24: =D20+D23 -> 787623.47 | E24: =E20+E23 -> 354562.98 | F24: =F20+F23 -> -433060.48 | I24: =I20+I23 -> 1724592.7 | J24: =J20+J23 -> 711937.44 | K24: =K20+K23 -> -1012655.2
D25: =D21 -> Budget Result 1 - Evidence-based policy influencing | E25: Realisation Result 1 - Evidence-based policy influencing | F25: Difference 1 January - 31 December | G25: Difference % 1 January - 31 December | H25: Clarification | I25: =I21 -> Budget Result 2 - Country-level adaptive locally led programming | J25: Realisation Result 2 - Country-level adaptive locally led programming | K25: =K21 -> Difference 1 January - 31 December | L25: Difference % 1 January - 31 December | M25: Clarification
B26: VI. Programme costs local partners
B27: A. Direct and indirect costs of local partners (and other third parties) | D27: 0 | F27: =E27-D27 -> 0 | G27: =IFERROR(D27/E27, 0) -> 0 | K27: =J27-D28 -> -787623.47 | L27: =IFERROR(J27/I27, 0) -> 0
B28: VII. Subtotal of V and VI | D28: =D26+D24 -> 787623.47 | E28: =E26+E24 -> 354562.98 | F28: =F26+F24 -> -433060.48 | I28: =I26+I24 -> 1724592.7 | J28: =J26+J24 -> 711937.44 | K28: =K26+K24 -> -1012655.2
D29: =D21 -> Budget Result 1 - Evidence-based policy influencing | E29: Realisation Result 1 - Evidence-based policy influencing | F29: Difference 1 January - 31 December | G29: Difference % 1 January - 31 December | H29: Clarification | I29: =I21 -> Budget Result 2 - Country-level adaptive locally led programming | J29: Realisation Result 2 - Country-level adaptive locally led programming | K29: Difference 1 January - 31 December | L29: Difference % 1 January - 31 December | M29: Clarification
B30: VIII. Contingencies (max. 4% van VII)
B31: A. Optional percentage reserved for contingencies (Max. 4% of VII) | D31: 0 | F31: =E31-D31 -> 0 | G31: =IFERROR(D31/E31, 0) -> 0 | L31: =IFERROR(J31/I31, 0) -> 0
B32: VII. Grand total (V + VI) | D32: =D28+D31 -> 787623.47 | E32: =E28+E31 -> 354562.98 | F32: =F28+F31 -> -433060.48 | I32: =I28+I31 -> 1724592.7 | J32: =J28+J31 -> 711937.44 | K32: =K28+K31 -> -1012655.2
D33: Year 1 | I33: Year 2 | K33: Total
I35: =D32+I32 -> 2512216.1

Sheet 3. Model budget by country
B2: Format Annual Financial Report Year 2024 (June to Dec)
B3: Sheet 3 - Indicative budget by country
B5: Please note that this sheet is meant to elaborate the distribution of the costs of result area 2 (country-level adaptive, locally led programming in sheet 2) among the various countries of operation
B8: EXPENSES | D8: Budget Country 1 (Sudan) | E8: Realisation Country 1 | F8: Difference 1 June - 31 December | G8: Difference % 1 June - 31 December | H8: Clarification | I8: Budget Country 2 (Iraq) | J8: Realisation Country 2 | K8: Difference 1 June - 31 December | L8: Difference % 1 June - 31 December | M8: Clarification | N8: Budget Country 3 (DRC) | O8: Realisation Country 3 | P8: Difference 1 June - 31 December | Q8: Difference % 1 June - 31 December | R8: Clarification | S8: Budget Country 4 (S.Sudan) | T8: Realisation Country 4 | U8: Difference 1 June - 31 December | V8: Difference % 1 January - 31 December | W8: Clarification | X8: Sub Total | Z8: Budget Non-country specific expenses | AA8: Realisation | AB8: Difference 1 June - 31 December | AC8: Difference % 1 January - 31 December | AE8: Grand Total (=column H + J)
B9: June 1st 2024 to December 2024 | D9: =D29 -> 376538.06 | E9: =C40 -> 294412.27 | F9: =E9-D9 -> -82125.791 | G9: =IFERROR(E9/D9, 0) -> 0.78189246 | I9: =G29 -> 444119.12 | J9: =C57 -> 116643.6 | K9: =J9-I9 -> -327475.52 | L9: =IFERROR(J9/I9, 0) -> 0.26264035 | N9: =F29 -> 408190.94 | O9: =C83 -> 179086.49 | P9: =O9-N9 -> -229104.45 | Q9: =IFERROR(O9/N9, 0) -> 0.43873216 | S9: =E29 -> 391262.03 | T9: =C94 -> 65985.07 | U9: =T9-S9 -> -325276.96 | V9: =IFERROR(T9/S9, 0) -> 0.16864675 | X9: =SUM(D9:V9) -> 1312256.5 | Z9: =I29 -> 1086550.4 | AA9: =C104 -> 271264.25 | AB9: =AA9-Z9 -> -815286.19 | AC9: =AA9/Z9 -> 0.24965638 | AE9: =SUM(X9,Z9) -> 2398806.9
B10: Total per country | D10: =SUM(D9) -> 376538.06 | E10: =SUM(E9) -> 294412.27 | F10: =E10-D10 -> -82125.791 | G10: =IFERROR(E10/D10, 0) -> 0.78189246 | I10: =SUM(I9) -> 444119.12 | J10: =SUM(J9) -> 116643.6 | K10: =J10-I10 -> -327475.52 | L10: =IFERROR(J10/I10, 0) -> 0.26264035 | N10: =SUM(N9) -> 408190.94 | O10: =SUM(O9) -> 179086.49 | P10: =O10-N10 -> -229104.45 | Q10: =IFERROR(O10/N10, 0) -> 0.43873216 | S10: =SUM(S9) -> 391262.03 | T10: =SUM(T9) -> 65985.07 | U10: =T10-S10 -> -325276.96 | V10: =IFERROR(T10/S10, 0) -> 0.16864675 | X10: =SUM(D10:V10) -> 1312256.5 | Z10: =SUM(Z9) -> 1086550.4 | AA10: =SUM(AA9) -> 271264.25 | AB10: =AA10-Z10 -> -815286.19 | AC10: =IFERROR(AA10/Z10, 0) -> 0.24965638 | AE10: =SUM(X10,Z10) -> 2398806.9
B15: Approved budget as per annual plan
B16: Budget | D16: Country 1: Sudan | E16: Country 2: South Sudan | F16: Country 3: DRC | G16: Country 4: Iraq | H16: SubTotal | I16: Non-country specific expenses | J16: Grand Total (=column N+P)
B17: First 18 months | D17: 968240.72 | E17: =1306102.37039726-300000 -> 1006102.4 | F17: =1149633.83706725-100000 -> 1049633.8 | G17: =1203624.8-61604.2 -> 1142020.6 | H17: =SUM(D17:G17) -> 4165997.5 | I17: 2793986.8 | J17: =H17+I17 -> 6959984.4
B18: Year 3 | D18: 841809.33 | E18: 357113.59 | F18: 574816.92 | G18: =611515.416988348 -> 611515.42 | H18: =SUM(D18:G18) -> 2385255.3 | I18: =1723732.97297297-39367 -> 1684366 | J18: =H18+I18 -> 4069621.2
B19: Year 4 | D19: 706980.02 | E19: 357113.59 | F19: 500000 | G19: 597544.6 | H19: =SUM(D19:G19) -> 2161638.2 | I19: 1660471.4 | J19: =H19+I19 -> 3822109.6
B20: Year 5 | D20: 463274.28 | E20: 428522.66 | F20: 500000 | G20: 455928.51 | H20: =SUM(D20:G20) -> 1847725.4 | I20: 1560471.4 | J20: =H20+I20 -> 3408196.8
B21: Year 6 | D21: 361689.34 | E21: 426172.06 | F21: 500000 | G21: 400000 | H21: =SUM(D21:G21) -> 1687861.4 | I21: 1473623.8 | J21: =H21+I21 -> 3161485.2
B22: Year 7 | D22: 350000 | E22: 400000 | F22: 400000 | G22: 300000 | H22: =SUM(D22:G22) -> 1450000 | I22: 1377815.1 | J22: =H22+I22 -> 2827815.1
B23: Year 8 | D23: 350000 | E23: 400000 | F23: 350000 | G23: 300000 | H23: =SUM(D23:G23) -> 1400000 | I23: 1377815.1 | J23: =H23+I23 -> 2777815.1
H24: =SUM(D24:G24) -> 0 | J24: =H24+I24 -> 0
B25: Total per country | D25: =SUM(D17:D24) -> 4041993.7 | E25: =SUM(E17:E24) -> 3375024.3 | F25: =SUM(F17:F24) -> 3874450.8 | G25: =SUM(G17:G24) -> 3807009.1 | H25: =SUM(D25:G25) -> 15098478 | I25: =SUM(I17:I24) -> 11928550 | J25: =H25+I25 -> 27027027
D26: Year 1 | E26: Year 2 | F26: Year 3 | G26: Year 4 | H26: Total | I26: Total | J26: Total
B28: Forecast June 2024 to Dec 2025 | D28: =D17 -> 968240.72 | E28: =E17 -> 1006102.4 | F28: =F17 -> 1049633.8 | G28: =G17 -> 1142020.6 | H28: =H17 -> 4165997.5 | I28: =I17 -> 2793986.8 | J28: =J17 -> 6959984.4
B29: Forecast June 2024 to Dec 2024 | D29: =D28/18*7 -> 376538.06 | E29: =E28/18*7 -> 391262.03 | F29: =F28/18*7 -> 408190.94 | G29: =G28/18*7 -> 444119.12 | H29: =H28/18*7 -> 1620110.2 | I29: =I28/18*7 -> 1086550.4 | J29: =J28/18*7 -> 2706660.6
B31: Sudan
B32: Budget Line | C32: Sum of Amount | D32: Budget Category
B33: A | C33: 97629.156 | D33: A. Staff costs for non-local personnel of applicant
B34: B | C34: 107237.46 | D34: B. Staff costs for local personnel of applicant
B35: C | C35: 25831.06 | D35: C. Programme activity costs, including project management costs
B36: D | C36: 14705.441 | D36: D. External: consultants and advisers
B37: E | C37: 225.12 | D37: C. Programme activity costs, including project management costs
B38: F | C38: 39195.587 | D38: B. Project office costs
B39: G | C39: 9588.44 | D39: C. Programme activity costs, including project management costs
B40: Grand Total | C40: 294412.27
B42: Iraq
B43: Budget Line | C43: Sum of Amount | D43: Budget Category
B44: I.A2 | C44: 14500.1 | D44: A. Staff costs for non-local personnel of applicant
B45: I.A3 | C45: 18665.18 | D45: A. Staff costs for non-local personnel of applicant
B46: I.A4 | C46: 15305.18 | D46: A. Staff costs for non-local personnel of applicant
B47: I.A5 | C47: 7200.03 | D47: A. Staff costs for non-local personnel of applicant
B48: I.A6 | C48: 7290.99 | D48: A. Staff costs for non-local personnel of applicant
B49: I.B1 | C49: 4867.47 | D49: B. Staff costs for local personnel of applicant
B50: I.B2 | C50: 5063.83 | D50: B. Staff costs for local personnel of applicant
B51: I.B3 | C51: 7237.98 | D51: B. Staff costs for local personnel of applicant
...
